BEGIN:VCALENDAR
VERSION:2.0
PRODID:DPCALENDAR
CALSCALE:GREGORIAN
BEGIN:VTIMEZONE
TZID:Europe/Zurich
BEGIN:STANDARD
DTSTART:20251026T010000
TZOFFSETFROM:+0200
TZOFFSETTO:+0100
TZNAME:CET
END:STANDARD
BEGIN:STANDARD
DTSTART:20261025T010000
TZOFFSETFROM:+0200
TZOFFSETTO:+0100
TZNAME:CET
END:STANDARD
BEGIN:DAYLIGHT
DTSTART:20260329T010000
TZOFFSETFROM:+0100
TZOFFSETTO:+0200
TZNAME:CEST
END:DAYLIGHT
END:VTIMEZONE
X-WR-TIMEZONE:Europe/Zurich
BEGIN:VEVENT
DTSTART;TZID=Europe/Zurich:20210410T153000
DTEND;TZID=Europe/Zurich:20210410T180000
UID:B7029648-B468-4F80-9C31-292CA219A802
SUMMARY:1. Oblig. Bundesprogramm
CREATED:20210326T213749Z
DTSTAMP:20210326T213749Z
DESCRIPTION:
X-ALT-DESC;FMTTYPE=text/html:
LOCATION:Grabistrasse 8422\, 8422 Pfungen\, Zürich\, Schweiz
GEO:47.50665730;8.64331450
LAST-MODIFIED:20210405T212923Z
SEQUENCE:863494
URL:https://svpfungen.maddin-home.dyndns.org/dp/dp-kalender/1-oblig-bundesprogramm.html
X-ACCESS:1
X-HITS:41
X-COLOR:3366cc
X-SHOW-END-TIME:1
END:VEVENT
END:VCALENDAR